BEGIN:VCALENDAR
VERSION:2.0
PRODID:-//All Saints Church - Middleton Cheney - ECPv6.15.20//NONSGML v1.0//EN
CALSCALE:GREGORIAN
METHOD:PUBLISH
X-ORIGINAL-URL:https://allsaints-mc.church
X-WR-CALDESC:Events for All Saints Church - Middleton Cheney
REFRESH-INTERVAL;VALUE=DURATION:PT1H
X-Robots-Tag:noindex
X-PUBLISHED-TTL:PT1H
BEGIN:VTIMEZONE
TZID:Europe/London
BEGIN:DAYLIGHT
TZOFFSETFROM:+0000
TZOFFSETTO:+0100
TZNAME:BST
DTSTART:20250330T010000
END:DAYLIGHT
BEGIN:STANDARD
TZOFFSETFROM:+0100
TZOFFSETTO:+0000
TZNAME:GMT
DTSTART:20251026T010000
END:STANDARD
BEGIN:DAYLIGHT
TZOFFSETFROM:+0000
TZOFFSETTO:+0100
TZNAME:BST
DTSTART:20260329T010000
END:DAYLIGHT
BEGIN:STANDARD
TZOFFSETFROM:+0100
TZOFFSETTO:+0000
TZNAME:GMT
DTSTART:20261025T010000
END:STANDARD
BEGIN:DAYLIGHT
TZOFFSETFROM:+0000
TZOFFSETTO:+0100
TZNAME:BST
DTSTART:20270328T010000
END:DAYLIGHT
BEGIN:STANDARD
TZOFFSETFROM:+0100
TZOFFSETTO:+0000
TZNAME:GMT
DTSTART:20271031T010000
END:STANDARD
END:VTIMEZONE
BEGIN:VEVENT
DTSTART;TZID=Europe/London:20260104T103000
DTEND;TZID=Europe/London:20260104T120000
DTSTAMP:20260423T235629
CREATED:20250929T160027Z
LAST-MODIFIED:20250929T160027Z
UID:3941-1767522600-1767528000@allsaints-mc.church
SUMMARY:Sunday Service
DESCRIPTION:
URL:https://allsaints-mc.church/c-event/sunday-service-48
CATEGORIES:Family Service,Service,Sunday Service
END:VEVENT
BEGIN:VEVENT
DTSTART;TZID=Europe/London:20260111T103000
DTEND;TZID=Europe/London:20260111T120000
DTSTAMP:20260423T235629
CREATED:20260113T124636Z
LAST-MODIFIED:20260113T125023Z
UID:3982-1768127400-1768132800@allsaints-mc.church
SUMMARY:Holy Communion @ Library
DESCRIPTION:
URL:https://allsaints-mc.church/c-event/holy-communion-library
CATEGORIES:Holy Communion,Service,Service with Claire,Sunday Service
END:VEVENT
BEGIN:VEVENT
DTSTART;TZID=Europe/London:20260118T103000
DTEND;TZID=Europe/London:20260118T120000
DTSTAMP:20260423T235629
CREATED:20260113T124542Z
LAST-MODIFIED:20260113T124542Z
UID:3980-1768732200-1768737600@allsaints-mc.church
SUMMARY:Sunday Service @ Library
DESCRIPTION:
URL:https://allsaints-mc.church/c-event/sunday-service-library
CATEGORIES:Family Service,Service,Sunday Service
END:VEVENT
BEGIN:VEVENT
DTSTART;TZID=Europe/London:20260125T103000
DTEND;TZID=Europe/London:20260125T120000
DTSTAMP:20260423T235629
CREATED:20260113T124744Z
LAST-MODIFIED:20260113T124744Z
UID:3985-1769337000-1769342400@allsaints-mc.church
SUMMARY:Holy Communion @ Library
DESCRIPTION:
URL:https://allsaints-mc.church/c-event/holy-communion-library-2
CATEGORIES:Holy Communion,Service,Sunday Service
END:VEVENT
END:VCALENDAR