BEGIN:VCALENDAR
VERSION:2.0
PRODID:-//All Saints Church - Middleton Cheney - ECPv6.15.20//NONSGML v1.0//EN
CALSCALE:GREGORIAN
METHOD:PUBLISH
X-ORIGINAL-URL:https://allsaints-mc.church
X-WR-CALDESC:Events for All Saints Church - Middleton Cheney
REFRESH-INTERVAL;VALUE=DURATION:PT1H
X-Robots-Tag:noindex
X-PUBLISHED-TTL:PT1H
BEGIN:VTIMEZONE
TZID:Europe/London
BEGIN:DAYLIGHT
TZOFFSETFROM:+0000
TZOFFSETTO:+0100
TZNAME:BST
DTSTART:20210328T010000
END:DAYLIGHT
BEGIN:STANDARD
TZOFFSETFROM:+0100
TZOFFSETTO:+0000
TZNAME:GMT
DTSTART:20211031T010000
END:STANDARD
BEGIN:DAYLIGHT
TZOFFSETFROM:+0000
TZOFFSETTO:+0100
TZNAME:BST
DTSTART:20220327T010000
END:DAYLIGHT
BEGIN:STANDARD
TZOFFSETFROM:+0100
TZOFFSETTO:+0000
TZNAME:GMT
DTSTART:20221030T010000
END:STANDARD
BEGIN:DAYLIGHT
TZOFFSETFROM:+0000
TZOFFSETTO:+0100
TZNAME:BST
DTSTART:20230326T010000
END:DAYLIGHT
BEGIN:STANDARD
TZOFFSETFROM:+0100
TZOFFSETTO:+0000
TZNAME:GMT
DTSTART:20231029T010000
END:STANDARD
BEGIN:DAYLIGHT
TZOFFSETFROM:+0000
TZOFFSETTO:+0100
TZNAME:BST
DTSTART:20240331T010000
END:DAYLIGHT
BEGIN:STANDARD
TZOFFSETFROM:+0100
TZOFFSETTO:+0000
TZNAME:GMT
DTSTART:20241027T010000
END:STANDARD
BEGIN:DAYLIGHT
TZOFFSETFROM:+0000
TZOFFSETTO:+0100
TZNAME:BST
DTSTART:20250330T010000
END:DAYLIGHT
BEGIN:STANDARD
TZOFFSETFROM:+0100
TZOFFSETTO:+0000
TZNAME:GMT
DTSTART:20251026T010000
END:STANDARD
BEGIN:DAYLIGHT
TZOFFSETFROM:+0000
TZOFFSETTO:+0100
TZNAME:BST
DTSTART:20260329T010000
END:DAYLIGHT
BEGIN:STANDARD
TZOFFSETFROM:+0100
TZOFFSETTO:+0000
TZNAME:GMT
DTSTART:20261025T010000
END:STANDARD
END:VTIMEZONE
BEGIN:VEVENT
DTSTART;TZID=Europe/London:20250427T103000
DTEND;TZID=Europe/London:20250427T120000
DTSTAMP:20260419T201647
CREATED:20250302T164736Z
LAST-MODIFIED:20250302T164736Z
UID:3551-1745749800-1745755200@allsaints-mc.church
SUMMARY:Holy Communion
DESCRIPTION:
URL:https://allsaints-mc.church/c-event/holy-communion-244
CATEGORIES:Holy Communion,Service,Service with Celia,Sunday Service
END:VEVENT
BEGIN:VEVENT
DTSTART;TZID=Europe/London:20240929T103000
DTEND;TZID=Europe/London:20240929T120000
DTSTAMP:20260419T201647
CREATED:20240911T154606Z
LAST-MODIFIED:20240912T135455Z
UID:3187-1727605800-1727611200@allsaints-mc.church
SUMMARY:Benefice Service - Greatworth
DESCRIPTION:
URL:https://allsaints-mc.church/c-event/benefice-service-greatworth-2
CATEGORIES:Benefice Service,Service,Service with Celia,Sunday Service
END:VEVENT
BEGIN:VEVENT
DTSTART;TZID=Europe/London:20231025T100000
DTEND;TZID=Europe/London:20231025T110000
DTSTAMP:20260419T201647
CREATED:20231004T101821Z
LAST-MODIFIED:20231004T101821Z
UID:3043-1698228000-1698231600@allsaints-mc.church
SUMMARY:Holy Communion
DESCRIPTION:
URL:https://allsaints-mc.church/c-event/holy-communion-125
CATEGORIES:Holy Communion,Service,Service with Celia
END:VEVENT
BEGIN:VEVENT
DTSTART;TZID=Europe/London:20231024T180000
DTEND;TZID=Europe/London:20231024T190000
DTSTAMP:20260419T201647
CREATED:20231004T101748Z
LAST-MODIFIED:20231004T101748Z
UID:3041-1698170400-1698174000@allsaints-mc.church
SUMMARY:Holy Communion
DESCRIPTION:
URL:https://allsaints-mc.church/c-event/holy-communion-124
CATEGORIES:Holy Communion,Service,Service with Celia
END:VEVENT
BEGIN:VEVENT
DTSTART;TZID=Europe/London:20231022T103000
DTEND;TZID=Europe/London:20231022T120000
DTSTAMP:20260419T201647
CREATED:20231004T101704Z
LAST-MODIFIED:20231004T101704Z
UID:3039-1697970600-1697976000@allsaints-mc.church
SUMMARY:Holy Communion
DESCRIPTION:
URL:https://allsaints-mc.church/c-event/holy-communion-123
CATEGORIES:Holy Communion,Service,Service with Celia,Sunday Service
END:VEVENT
BEGIN:VEVENT
DTSTART;TZID=Europe/London:20231019T100000
DTEND;TZID=Europe/London:20231019T110000
DTSTAMP:20260419T201647
CREATED:20231004T101615Z
LAST-MODIFIED:20231004T101615Z
UID:3037-1697709600-1697713200@allsaints-mc.church
SUMMARY:Holy Communion
DESCRIPTION:
URL:https://allsaints-mc.church/c-event/holy-communion-122
CATEGORIES:Holy Communion,Service,Service with Celia
END:VEVENT
BEGIN:VEVENT
DTSTART;TZID=Europe/London:20230223T100000
DTEND;TZID=Europe/London:20230223T110000
DTSTAMP:20260419T201647
CREATED:20230105T141010Z
LAST-MODIFIED:20230105T141010Z
UID:2944-1677146400-1677150000@allsaints-mc.church
SUMMARY:Holy Communion
DESCRIPTION:
URL:https://allsaints-mc.church/c-event/holy-communion-105
CATEGORIES:Holy Communion,Service,Service with Celia
END:VEVENT
BEGIN:VEVENT
DTSTART;TZID=Europe/London:20230208T100000
DTEND;TZID=Europe/London:20230208T110000
DTSTAMP:20260419T201647
CREATED:20230105T140720Z
LAST-MODIFIED:20230105T140720Z
UID:2934-1675850400-1675854000@allsaints-mc.church
SUMMARY:Holy Communion
DESCRIPTION:
URL:https://allsaints-mc.church/c-event/holy-communion-101
CATEGORIES:Holy Communion,Service,Service with Celia
END:VEVENT
BEGIN:VEVENT
DTSTART;TZID=Europe/London:20230202T100000
DTEND;TZID=Europe/London:20230202T110000
DTSTAMP:20260419T201647
CREATED:20230105T140620Z
LAST-MODIFIED:20230105T140620Z
UID:2932-1675332000-1675335600@allsaints-mc.church
SUMMARY:Holy Communion
DESCRIPTION:
URL:https://allsaints-mc.church/c-event/holy-communion-100
CATEGORIES:Holy Communion,Service,Service with Celia
END:VEVENT
BEGIN:VEVENT
DTSTART;TZID=Europe/London:20221130T100000
DTEND;TZID=Europe/London:20221130T110000
DTSTAMP:20260419T201647
CREATED:20221019T101824Z
LAST-MODIFIED:20221019T105354Z
UID:2834-1669802400-1669806000@allsaints-mc.church
SUMMARY:Holy Communion
DESCRIPTION:
URL:https://allsaints-mc.church/c-event/holy-communion-79
CATEGORIES:Holy Communion,Service,Service with Celia
END:VEVENT
BEGIN:VEVENT
DTSTART;TZID=Europe/London:20221123T100000
DTEND;TZID=Europe/London:20221123T110000
DTSTAMP:20260419T201647
CREATED:20221019T094806Z
LAST-MODIFIED:20221019T105446Z
UID:2828-1669197600-1669201200@allsaints-mc.church
SUMMARY:Holy Communion
DESCRIPTION:
URL:https://allsaints-mc.church/c-event/holy-communion-76
CATEGORIES:Holy Communion,Service,Service with Celia
END:VEVENT
BEGIN:VEVENT
DTSTART;TZID=Europe/London:20221109T100000
DTEND;TZID=Europe/London:20221109T110000
DTSTAMP:20260419T201647
CREATED:20221019T094535Z
LAST-MODIFIED:20221019T105808Z
UID:2818-1667988000-1667991600@allsaints-mc.church
SUMMARY:Holy Communion
DESCRIPTION:
URL:https://allsaints-mc.church/c-event/holy-communion-72
CATEGORIES:Holy Communion,Service,Service with Celia
END:VEVENT
END:VCALENDAR