BEGIN:VCALENDAR
VERSION:2.0
PRODID:-//All Saints Church - Middleton Cheney - ECPv6.15.20//NONSGML v1.0//EN
CALSCALE:GREGORIAN
METHOD:PUBLISH
X-ORIGINAL-URL:https://allsaints-mc.church
X-WR-CALDESC:Events for All Saints Church - Middleton Cheney
REFRESH-INTERVAL;VALUE=DURATION:PT1H
X-Robots-Tag:noindex
X-PUBLISHED-TTL:PT1H
BEGIN:VTIMEZONE
TZID:Europe/London
BEGIN:DAYLIGHT
TZOFFSETFROM:+0000
TZOFFSETTO:+0100
TZNAME:BST
DTSTART:20240331T010000
END:DAYLIGHT
BEGIN:STANDARD
TZOFFSETFROM:+0100
TZOFFSETTO:+0000
TZNAME:GMT
DTSTART:20241027T010000
END:STANDARD
BEGIN:DAYLIGHT
TZOFFSETFROM:+0000
TZOFFSETTO:+0100
TZNAME:BST
DTSTART:20250330T010000
END:DAYLIGHT
BEGIN:STANDARD
TZOFFSETFROM:+0100
TZOFFSETTO:+0000
TZNAME:GMT
DTSTART:20251026T010000
END:STANDARD
BEGIN:DAYLIGHT
TZOFFSETFROM:+0000
TZOFFSETTO:+0100
TZNAME:BST
DTSTART:20260329T010000
END:DAYLIGHT
BEGIN:STANDARD
TZOFFSETFROM:+0100
TZOFFSETTO:+0000
TZNAME:GMT
DTSTART:20261025T010000
END:STANDARD
END:VTIMEZONE
BEGIN:VEVENT
DTSTART;TZID=Europe/London:20251224T150000
DTEND;TZID=Europe/London:20251224T160000
DTSTAMP:20260424T132417
CREATED:20250715T074503Z
LAST-MODIFIED:20250715T081419Z
UID:3802-1766588400-1766592000@allsaints-mc.church
SUMMARY:Crib Service
DESCRIPTION:
URL:https://allsaints-mc.church/c-event/crib-service-6
CATEGORIES:Christmas,Family Service,Service
ATTACH;FMTTYPE=image/jpeg:https://allsaints-mc.church/wp-content/uploads/2018/08/christmas-crib-figures-1060017_960_720.jpg
END:VEVENT
BEGIN:VEVENT
DTSTART;TZID=Europe/London:20251224T230000
DTEND;TZID=Europe/London:20251224T230000
DTSTAMP:20260424T132417
CREATED:20250715T074615Z
LAST-MODIFIED:20250715T081657Z
UID:3805-1766617200-1766617200@allsaints-mc.church
SUMMARY:Welcome to Christmas
DESCRIPTION:
URL:https://allsaints-mc.church/c-event/welcome-to-christmas-3
CATEGORIES:Christmas,Service
ATTACH;FMTTYPE=image/jpeg:https://allsaints-mc.church/wp-content/uploads/2025/07/All-Saints-Nativity-Window-scaled.jpg
END:VEVENT
END:VCALENDAR