BEGIN:VCALENDAR
VERSION:2.0
PRODID:-//All Saints Church - Middleton Cheney - ECPv6.15.20//NONSGML v1.0//EN
CALSCALE:GREGORIAN
METHOD:PUBLISH
X-ORIGINAL-URL:https://allsaints-mc.church
X-WR-CALDESC:Events for All Saints Church - Middleton Cheney
REFRESH-INTERVAL;VALUE=DURATION:PT1H
X-Robots-Tag:noindex
X-PUBLISHED-TTL:PT1H
BEGIN:VTIMEZONE
TZID:Europe/London
BEGIN:DAYLIGHT
TZOFFSETFROM:+0000
TZOFFSETTO:+0100
TZNAME:BST
DTSTART:20250330T010000
END:DAYLIGHT
BEGIN:STANDARD
TZOFFSETFROM:+0100
TZOFFSETTO:+0000
TZNAME:GMT
DTSTART:20251026T010000
END:STANDARD
BEGIN:DAYLIGHT
TZOFFSETFROM:+0000
TZOFFSETTO:+0100
TZNAME:BST
DTSTART:20260329T010000
END:DAYLIGHT
BEGIN:STANDARD
TZOFFSETFROM:+0100
TZOFFSETTO:+0000
TZNAME:GMT
DTSTART:20261025T010000
END:STANDARD
BEGIN:DAYLIGHT
TZOFFSETFROM:+0000
TZOFFSETTO:+0100
TZNAME:BST
DTSTART:20270328T010000
END:DAYLIGHT
BEGIN:STANDARD
TZOFFSETFROM:+0100
TZOFFSETTO:+0000
TZNAME:GMT
DTSTART:20271031T010000
END:STANDARD
END:VTIMEZONE
BEGIN:VEVENT
DTSTART;TZID=Europe/London:20260517T103000
DTEND;TZID=Europe/London:20260517T120000
DTSTAMP:20260421T172939
CREATED:20260420T124751Z
LAST-MODIFIED:20260420T130041Z
UID:4048-1779013800-1779019200@allsaints-mc.church
SUMMARY:Bible Course - Introduction
DESCRIPTION:New to the Bible or want to go deeper?\nThe Bible Course is for you. It shows how the key books\, famous characters and epic events form one BIG story\, from Genesis to Revelation. The course also provides tools and skills that help apply the Bible to everyday life
URL:https://allsaints-mc.church/c-event/sunday-service-50
CATEGORIES:Service,Sunday Service
ATTACH;FMTTYPE=image/jpeg:https://allsaints-mc.church/wp-content/uploads/2026/04/bible-scaled.jpg
END:VEVENT
END:VCALENDAR