BEGIN:VCALENDAR
VERSION:2.0
PRODID:-//All Saints Church - Middleton Cheney - ECPv6.15.20//NONSGML v1.0//EN
CALSCALE:GREGORIAN
METHOD:PUBLISH
X-ORIGINAL-URL:https://allsaints-mc.church
X-WR-CALDESC:Events for All Saints Church - Middleton Cheney
REFRESH-INTERVAL;VALUE=DURATION:PT1H
X-Robots-Tag:noindex
X-PUBLISHED-TTL:PT1H
BEGIN:VTIMEZONE
TZID:Europe/London
BEGIN:DAYLIGHT
TZOFFSETFROM:+0000
TZOFFSETTO:+0100
TZNAME:BST
DTSTART:20250330T010000
END:DAYLIGHT
BEGIN:STANDARD
TZOFFSETFROM:+0100
TZOFFSETTO:+0000
TZNAME:GMT
DTSTART:20251026T010000
END:STANDARD
BEGIN:DAYLIGHT
TZOFFSETFROM:+0000
TZOFFSETTO:+0100
TZNAME:BST
DTSTART:20260329T010000
END:DAYLIGHT
BEGIN:STANDARD
TZOFFSETFROM:+0100
TZOFFSETTO:+0000
TZNAME:GMT
DTSTART:20261025T010000
END:STANDARD
BEGIN:DAYLIGHT
TZOFFSETFROM:+0000
TZOFFSETTO:+0100
TZNAME:BST
DTSTART:20270328T010000
END:DAYLIGHT
BEGIN:STANDARD
TZOFFSETFROM:+0100
TZOFFSETTO:+0000
TZNAME:GMT
DTSTART:20271031T010000
END:STANDARD
END:VTIMEZONE
BEGIN:VEVENT
DTSTART;TZID=Europe/London:20260510T103000
DTEND;TZID=Europe/London:20260510T120000
DTSTAMP:20260421T223658
CREATED:20260420T124715Z
LAST-MODIFIED:20260420T124715Z
UID:4046-1778409000-1778414400@allsaints-mc.church
SUMMARY:Holy Communion
DESCRIPTION:
URL:https://allsaints-mc.church/c-event/holy-communion-324
CATEGORIES:Holy Communion,Service
END:VEVENT
BEGIN:VEVENT
DTSTART;TZID=Europe/London:20260513T100000
DTEND;TZID=Europe/London:20260513T110000
DTSTAMP:20260421T223658
CREATED:20260420T125232Z
LAST-MODIFIED:20260420T125232Z
UID:4060-1778666400-1778670000@allsaints-mc.church
SUMMARY:Holy Communion
DESCRIPTION:
URL:https://allsaints-mc.church/c-event/holy-communion-332
CATEGORIES:Holy Communion,Service
END:VEVENT
BEGIN:VEVENT
DTSTART;TZID=Europe/London:20260517T103000
DTEND;TZID=Europe/London:20260517T120000
DTSTAMP:20260421T223658
CREATED:20260420T124751Z
LAST-MODIFIED:20260420T130041Z
UID:4048-1779013800-1779019200@allsaints-mc.church
SUMMARY:Bible Course - Introduction
DESCRIPTION:New to the Bible or want to go deeper?\nThe Bible Course is for you. It shows how the key books\, famous characters and epic events form one BIG story\, from Genesis to Revelation. The course also provides tools and skills that help apply the Bible to everyday life
URL:https://allsaints-mc.church/c-event/sunday-service-50
CATEGORIES:Service,Sunday Service
ATTACH;FMTTYPE=image/jpeg:https://allsaints-mc.church/wp-content/uploads/2026/04/bible-scaled.jpg
END:VEVENT
BEGIN:VEVENT
DTSTART;TZID=Europe/London:20260520T100000
DTEND;TZID=Europe/London:20260520T110000
DTSTAMP:20260421T223658
CREATED:20260420T125330Z
LAST-MODIFIED:20260420T125330Z
UID:4063-1779271200-1779274800@allsaints-mc.church
SUMMARY:Holy Communion
DESCRIPTION:
URL:https://allsaints-mc.church/c-event/holy-communion-333
CATEGORIES:Holy Communion,Service
END:VEVENT
BEGIN:VEVENT
DTSTART;TZID=Europe/London:20260524T103000
DTEND;TZID=Europe/London:20260524T120000
DTSTAMP:20260421T223658
CREATED:20260420T124836Z
LAST-MODIFIED:20260420T124836Z
UID:4050-1779618600-1779624000@allsaints-mc.church
SUMMARY:Holy Communion
DESCRIPTION:
URL:https://allsaints-mc.church/c-event/holy-communion-326
CATEGORIES:Holy Communion,Service
END:VEVENT
BEGIN:VEVENT
DTSTART;TZID=Europe/London:20260527T100000
DTEND;TZID=Europe/London:20260527T110000
DTSTAMP:20260421T223658
CREATED:20260420T130012Z
LAST-MODIFIED:20260420T130012Z
UID:4068-1779876000-1779879600@allsaints-mc.church
SUMMARY:Holy communion
DESCRIPTION:
URL:https://allsaints-mc.church/c-event/holy-communion-336
CATEGORIES:Holy Communion,Service
END:VEVENT
BEGIN:VEVENT
DTSTART;TZID=Europe/London:20260531T103000
DTEND;TZID=Europe/London:20260531T120000
DTSTAMP:20260421T223658
CREATED:20260420T124922Z
LAST-MODIFIED:20260420T124922Z
UID:4052-1780223400-1780228800@allsaints-mc.church
SUMMARY:Benefice Church service - Marston
DESCRIPTION:
URL:https://allsaints-mc.church/c-event/benefice-church-service-marston
CATEGORIES:Benefice Service,Holy Communion,Service
END:VEVENT
END:VCALENDAR