BEGIN:VCALENDAR
VERSION:2.0
PRODID:-//All Saints Church - Middleton Cheney - ECPv6.15.20//NONSGML v1.0//EN
CALSCALE:GREGORIAN
METHOD:PUBLISH
X-WR-CALNAME:All Saints Church - Middleton Cheney
X-ORIGINAL-URL:https://allsaints-mc.church
X-WR-CALDESC:Events for All Saints Church - Middleton Cheney
REFRESH-INTERVAL;VALUE=DURATION:PT1H
X-Robots-Tag:noindex
X-PUBLISHED-TTL:PT1H
BEGIN:VTIMEZONE
TZID:Europe/London
BEGIN:DAYLIGHT
TZOFFSETFROM:+0000
TZOFFSETTO:+0100
TZNAME:BST
DTSTART:20170326T010000
END:DAYLIGHT
BEGIN:STANDARD
TZOFFSETFROM:+0100
TZOFFSETTO:+0000
TZNAME:GMT
DTSTART:20171029T010000
END:STANDARD
BEGIN:DAYLIGHT
TZOFFSETFROM:+0000
TZOFFSETTO:+0100
TZNAME:BST
DTSTART:20180325T010000
END:DAYLIGHT
BEGIN:STANDARD
TZOFFSETFROM:+0100
TZOFFSETTO:+0000
TZNAME:GMT
DTSTART:20181028T010000
END:STANDARD
BEGIN:DAYLIGHT
TZOFFSETFROM:+0000
TZOFFSETTO:+0100
TZNAME:BST
DTSTART:20190331T010000
END:DAYLIGHT
BEGIN:STANDARD
TZOFFSETFROM:+0100
TZOFFSETTO:+0000
TZNAME:GMT
DTSTART:20191027T010000
END:STANDARD
BEGIN:DAYLIGHT
TZOFFSETFROM:+0000
TZOFFSETTO:+0100
TZNAME:BST
DTSTART:20200329T010000
END:DAYLIGHT
BEGIN:STANDARD
TZOFFSETFROM:+0100
TZOFFSETTO:+0000
TZNAME:GMT
DTSTART:20201025T010000
END:STANDARD
END:VTIMEZONE
BEGIN:VEVENT
DTSTART;TZID=Europe/London:20190127T104500
DTEND;TZID=Europe/London:20190127T120000
DTSTAMP:20260420T175716
CREATED:20181116T130503Z
LAST-MODIFIED:20181116T130503Z
UID:1293-1548585900-1548590400@allsaints-mc.church
SUMMARY:Joint service at the Methodist Church
DESCRIPTION:Service to mark the end of the Week of Prayer for Christian Unity
URL:https://allsaints-mc.church/c-event/joint-service-at-the-methodist-church
CATEGORIES:Service,Service at Methodist
END:VEVENT
BEGIN:VEVENT
DTSTART;TZID=Europe/London:20181221T190000
DTEND;TZID=Europe/London:20181221T203000
DTSTAMP:20260420T175716
CREATED:20181116T125823Z
LAST-MODIFIED:20181116T125833Z
UID:1281-1545418800-1545424200@allsaints-mc.church
SUMMARY:Carols and Mince Pies
DESCRIPTION:at The Methodist Church
URL:https://allsaints-mc.church/c-event/carols-and-mince-pie-social
CATEGORIES:Service at Methodist
END:VEVENT
BEGIN:VEVENT
DTSTART;TZID=Europe/London:20181104T103000
DTEND;TZID=Europe/London:20181104T120000
DTSTAMP:20260420T175716
CREATED:20181023T115051Z
LAST-MODIFIED:20181023T165731Z
UID:1238-1541327400-1541332800@allsaints-mc.church
SUMMARY:United Service
DESCRIPTION:
URL:https://allsaints-mc.church/c-event/united-service
LOCATION:Methodist Church
CATEGORIES:Service at Methodist
END:VEVENT
BEGIN:VEVENT
DTSTART;TZID=Europe/London:20180902T104500
DTEND;TZID=Europe/London:20180902T114500
DTSTAMP:20260420T175716
CREATED:20180830T174047Z
LAST-MODIFIED:20180830T174047Z
UID:1088-1535885100-1535888700@allsaints-mc.church
SUMMARY:United Morning Praise at Methodist Church
DESCRIPTION:
URL:https://allsaints-mc.church/c-event/united-morning-praise-at-methodist-church
CATEGORIES:Service at Methodist
END:VEVENT
END:VCALENDAR