BEGIN:VCALENDAR
VERSION:2.0
PRODID:-//All Saints Church - Middleton Cheney - ECPv6.15.20//NONSGML v1.0//EN
CALSCALE:GREGORIAN
METHOD:PUBLISH
X-WR-CALNAME:All Saints Church - Middleton Cheney
X-ORIGINAL-URL:https://allsaints-mc.church
X-WR-CALDESC:Events for All Saints Church - Middleton Cheney
REFRESH-INTERVAL;VALUE=DURATION:PT1H
X-Robots-Tag:noindex
X-PUBLISHED-TTL:PT1H
BEGIN:VTIMEZONE
TZID:Europe/London
BEGIN:DAYLIGHT
TZOFFSETFROM:+0000
TZOFFSETTO:+0100
TZNAME:BST
DTSTART:20210328T010000
END:DAYLIGHT
BEGIN:STANDARD
TZOFFSETFROM:+0100
TZOFFSETTO:+0000
TZNAME:GMT
DTSTART:20211031T010000
END:STANDARD
BEGIN:DAYLIGHT
TZOFFSETFROM:+0000
TZOFFSETTO:+0100
TZNAME:BST
DTSTART:20220327T010000
END:DAYLIGHT
BEGIN:STANDARD
TZOFFSETFROM:+0100
TZOFFSETTO:+0000
TZNAME:GMT
DTSTART:20221030T010000
END:STANDARD
BEGIN:DAYLIGHT
TZOFFSETFROM:+0000
TZOFFSETTO:+0100
TZNAME:BST
DTSTART:20230326T010000
END:DAYLIGHT
BEGIN:STANDARD
TZOFFSETFROM:+0100
TZOFFSETTO:+0000
TZNAME:GMT
DTSTART:20231029T010000
END:STANDARD
END:VTIMEZONE
BEGIN:VEVENT
DTSTART;TZID=Europe/London:20221120T103000
DTEND;TZID=Europe/London:20221120T120000
DTSTAMP:20260420T055730
CREATED:20221019T094719Z
LAST-MODIFIED:20221019T110111Z
UID:2826-1668940200-1668945600@allsaints-mc.church
SUMMARY:Morning Praise
DESCRIPTION:
URL:https://allsaints-mc.church/c-event/morning-praise-4
CATEGORIES:Family Service,Service,Service with Bridget,Service with Claire,Sunday Service
END:VEVENT
END:VCALENDAR