BEGIN:VCALENDAR
VERSION:2.0
PRODID:-//All Saints Church - Middleton Cheney - ECPv6.15.20//NONSGML v1.0//EN
CALSCALE:GREGORIAN
METHOD:PUBLISH
X-ORIGINAL-URL:https://allsaints-mc.church
X-WR-CALDESC:Events for All Saints Church - Middleton Cheney
REFRESH-INTERVAL;VALUE=DURATION:PT1H
X-Robots-Tag:noindex
X-PUBLISHED-TTL:PT1H
BEGIN:VTIMEZONE
TZID:Europe/London
BEGIN:DAYLIGHT
TZOFFSETFROM:+0000
TZOFFSETTO:+0100
TZNAME:BST
DTSTART:20210328T010000
END:DAYLIGHT
BEGIN:STANDARD
TZOFFSETFROM:+0100
TZOFFSETTO:+0000
TZNAME:GMT
DTSTART:20211031T010000
END:STANDARD
BEGIN:DAYLIGHT
TZOFFSETFROM:+0000
TZOFFSETTO:+0100
TZNAME:BST
DTSTART:20220327T010000
END:DAYLIGHT
BEGIN:STANDARD
TZOFFSETFROM:+0100
TZOFFSETTO:+0000
TZNAME:GMT
DTSTART:20221030T010000
END:STANDARD
BEGIN:DAYLIGHT
TZOFFSETFROM:+0000
TZOFFSETTO:+0100
TZNAME:BST
DTSTART:20230326T010000
END:DAYLIGHT
BEGIN:STANDARD
TZOFFSETFROM:+0100
TZOFFSETTO:+0000
TZNAME:GMT
DTSTART:20231029T010000
END:STANDARD
BEGIN:DAYLIGHT
TZOFFSETFROM:+0000
TZOFFSETTO:+0100
TZNAME:BST
DTSTART:20240331T010000
END:DAYLIGHT
BEGIN:STANDARD
TZOFFSETFROM:+0100
TZOFFSETTO:+0000
TZNAME:GMT
DTSTART:20241027T010000
END:STANDARD
BEGIN:DAYLIGHT
TZOFFSETFROM:+0000
TZOFFSETTO:+0100
TZNAME:BST
DTSTART:20250330T010000
END:DAYLIGHT
BEGIN:STANDARD
TZOFFSETFROM:+0100
TZOFFSETTO:+0000
TZNAME:GMT
DTSTART:20251026T010000
END:STANDARD
BEGIN:DAYLIGHT
TZOFFSETFROM:+0000
TZOFFSETTO:+0100
TZNAME:BST
DTSTART:20260329T010000
END:DAYLIGHT
BEGIN:STANDARD
TZOFFSETFROM:+0100
TZOFFSETTO:+0000
TZNAME:GMT
DTSTART:20261025T010000
END:STANDARD
BEGIN:DAYLIGHT
TZOFFSETFROM:+0000
TZOFFSETTO:+0100
TZNAME:BST
DTSTART:20270328T010000
END:DAYLIGHT
BEGIN:STANDARD
TZOFFSETFROM:+0100
TZOFFSETTO:+0000
TZNAME:GMT
DTSTART:20271031T010000
END:STANDARD
END:VTIMEZONE
BEGIN:VEVENT
DTSTART;TZID=Europe/London:20260405T103000
DTEND;TZID=Europe/London:20260405T120000
DTSTAMP:20260421T092906
CREATED:20260420T130507Z
LAST-MODIFIED:20260420T130507Z
UID:4082-1775385000-1775390400@allsaints-mc.church
SUMMARY:Easter Sunday
DESCRIPTION:
URL:https://allsaints-mc.church/c-event/easter-sunday-3
CATEGORIES:Holy Communion,Service,Service with Claire,Sunday Service
END:VEVENT
BEGIN:VEVENT
DTSTART;TZID=Europe/London:20260111T103000
DTEND;TZID=Europe/London:20260111T120000
DTSTAMP:20260421T092906
CREATED:20260113T124636Z
LAST-MODIFIED:20260113T125023Z
UID:3982-1768127400-1768132800@allsaints-mc.church
SUMMARY:Holy Communion @ Library
DESCRIPTION:
URL:https://allsaints-mc.church/c-event/holy-communion-library
CATEGORIES:Holy Communion,Service,Service with Claire,Sunday Service
END:VEVENT
BEGIN:VEVENT
DTSTART;TZID=Europe/London:20250518T103000
DTEND;TZID=Europe/London:20250518T120000
DTSTAMP:20260421T092906
CREATED:20250513T153302Z
LAST-MODIFIED:20250513T153302Z
UID:3616-1747564200-1747569600@allsaints-mc.church
SUMMARY:Sunday Service
DESCRIPTION:
URL:https://allsaints-mc.church/c-event/sunday-service-38
CATEGORIES:Family Service,Service,Service with Claire,Service with Mike,Sunday Service
END:VEVENT
BEGIN:VEVENT
DTSTART;TZID=Europe/London:20241020T103000
DTEND;TZID=Europe/London:20241020T120000
DTSTAMP:20260421T092906
CREATED:20240911T155733Z
LAST-MODIFIED:20240912T135702Z
UID:3229-1729420200-1729425600@allsaints-mc.church
SUMMARY:Morning Praise
DESCRIPTION:
URL:https://allsaints-mc.church/c-event/sunday-service-28
CATEGORIES:Family Service,Service,Service with Claire,Sunday Service
END:VEVENT
BEGIN:VEVENT
DTSTART;TZID=Europe/London:20221120T103000
DTEND;TZID=Europe/London:20221120T120000
DTSTAMP:20260421T092906
CREATED:20221019T094719Z
LAST-MODIFIED:20221019T110111Z
UID:2826-1668940200-1668945600@allsaints-mc.church
SUMMARY:Morning Praise
DESCRIPTION:
URL:https://allsaints-mc.church/c-event/morning-praise-4
CATEGORIES:Family Service,Service,Service with Bridget,Service with Claire,Sunday Service
END:VEVENT
BEGIN:VEVENT
DTSTART;TZID=Europe/London:20221106T103000
DTEND;TZID=Europe/London:20221106T120000
DTSTAMP:20260421T092906
CREATED:20220929T155915Z
LAST-MODIFIED:20221019T110025Z
UID:2812-1667730600-1667736000@allsaints-mc.church
SUMMARY:Morning Praise
DESCRIPTION:
URL:https://allsaints-mc.church/c-event/sunday-service-14
CATEGORIES:Family Service,Service,Service with Claire,Service with Mike,Sunday Service
END:VEVENT
END:VCALENDAR