BEGIN:VCALENDAR
VERSION:2.0
PRODID:-//All Saints Church - Middleton Cheney - ECPv6.15.20//NONSGML v1.0//EN
CALSCALE:GREGORIAN
METHOD:PUBLISH
X-WR-CALNAME:All Saints Church - Middleton Cheney
X-ORIGINAL-URL:https://allsaints-mc.church
X-WR-CALDESC:Events for All Saints Church - Middleton Cheney
REFRESH-INTERVAL;VALUE=DURATION:PT1H
X-Robots-Tag:noindex
X-PUBLISHED-TTL:PT1H
BEGIN:VTIMEZONE
TZID:Europe/London
BEGIN:DAYLIGHT
TZOFFSETFROM:+0000
TZOFFSETTO:+0100
TZNAME:BST
DTSTART:20210328T010000
END:DAYLIGHT
BEGIN:STANDARD
TZOFFSETFROM:+0100
TZOFFSETTO:+0000
TZNAME:GMT
DTSTART:20211031T010000
END:STANDARD
BEGIN:DAYLIGHT
TZOFFSETFROM:+0000
TZOFFSETTO:+0100
TZNAME:BST
DTSTART:20220327T010000
END:DAYLIGHT
BEGIN:STANDARD
TZOFFSETFROM:+0100
TZOFFSETTO:+0000
TZNAME:GMT
DTSTART:20221030T010000
END:STANDARD
BEGIN:DAYLIGHT
TZOFFSETFROM:+0000
TZOFFSETTO:+0100
TZNAME:BST
DTSTART:20230326T010000
END:DAYLIGHT
BEGIN:STANDARD
TZOFFSETFROM:+0100
TZOFFSETTO:+0000
TZNAME:GMT
DTSTART:20231029T010000
END:STANDARD
END:VTIMEZONE
BEGIN:VEVENT
DTSTART;TZID=Europe/London:20220605T103000
DTEND;TZID=Europe/London:20220605T120000
DTSTAMP:20260422T035947
CREATED:20220528T135327Z
LAST-MODIFIED:20220530T194114Z
UID:2599-1654425000-1654430400@allsaints-mc.church
SUMMARY:Sunday Service
DESCRIPTION:
URL:https://allsaints-mc.church/c-event/service
CATEGORIES:Holy Communion,Sunday Service
END:VEVENT
BEGIN:VEVENT
DTSTART;TZID=Europe/London:20220612T103000
DTEND;TZID=Europe/London:20220612T120000
DTSTAMP:20260422T035947
CREATED:20220528T135400Z
LAST-MODIFIED:20220530T194052Z
UID:2601-1655029800-1655035200@allsaints-mc.church
SUMMARY:Sunday Service
DESCRIPTION:
URL:https://allsaints-mc.church/c-event/service-2
CATEGORIES:Holy Communion,Sunday Service
END:VEVENT
BEGIN:VEVENT
DTSTART;TZID=Europe/London:20220619T103000
DTEND;TZID=Europe/London:20220619T120000
DTSTAMP:20260422T035947
CREATED:20220528T135436Z
LAST-MODIFIED:20220530T194029Z
UID:2603-1655634600-1655640000@allsaints-mc.church
SUMMARY:Family Service
DESCRIPTION:
URL:https://allsaints-mc.church/c-event/service-3
CATEGORIES:Family Service,Sunday Service
END:VEVENT
BEGIN:VEVENT
DTSTART;TZID=Europe/London:20220626T103000
DTEND;TZID=Europe/London:20220626T120000
DTSTAMP:20260422T035947
CREATED:20220528T135524Z
LAST-MODIFIED:20220530T194011Z
UID:2605-1656239400-1656244800@allsaints-mc.church
SUMMARY:Sunday Service
DESCRIPTION:
URL:https://allsaints-mc.church/c-event/sunday-service
CATEGORIES:Holy Communion,Sunday Service
END:VEVENT
END:VCALENDAR