BEGIN:VCALENDAR
VERSION:2.0
PRODID:-//All Saints Church - Middleton Cheney - ECPv6.15.20//NONSGML v1.0//EN
CALSCALE:GREGORIAN
METHOD:PUBLISH
X-WR-CALNAME:All Saints Church - Middleton Cheney
X-ORIGINAL-URL:https://allsaints-mc.church
X-WR-CALDESC:Events for All Saints Church - Middleton Cheney
REFRESH-INTERVAL;VALUE=DURATION:PT1H
X-Robots-Tag:noindex
X-PUBLISHED-TTL:PT1H
BEGIN:VTIMEZONE
TZID:Europe/London
BEGIN:DAYLIGHT
TZOFFSETFROM:+0000
TZOFFSETTO:+0100
TZNAME:BST
DTSTART:20220327T010000
END:DAYLIGHT
BEGIN:STANDARD
TZOFFSETFROM:+0100
TZOFFSETTO:+0000
TZNAME:GMT
DTSTART:20221030T010000
END:STANDARD
BEGIN:DAYLIGHT
TZOFFSETFROM:+0000
TZOFFSETTO:+0100
TZNAME:BST
DTSTART:20230326T010000
END:DAYLIGHT
BEGIN:STANDARD
TZOFFSETFROM:+0100
TZOFFSETTO:+0000
TZNAME:GMT
DTSTART:20231029T010000
END:STANDARD
BEGIN:DAYLIGHT
TZOFFSETFROM:+0000
TZOFFSETTO:+0100
TZNAME:BST
DTSTART:20240331T010000
END:DAYLIGHT
BEGIN:STANDARD
TZOFFSETFROM:+0100
TZOFFSETTO:+0000
TZNAME:GMT
DTSTART:20241027T010000
END:STANDARD
END:VTIMEZONE
BEGIN:VEVENT
DTSTART;TZID=Europe/London:20230101T103000
DTEND;TZID=Europe/London:20230101T120000
DTSTAMP:20260421T092034
CREATED:20221205T125323Z
LAST-MODIFIED:20221205T125323Z
UID:2873-1672569000-1672574400@allsaints-mc.church
SUMMARY:Sunday Service
DESCRIPTION:
URL:https://allsaints-mc.church/c-event/sunday-service-16
CATEGORIES:Holy Communion,Service,Sunday Service
END:VEVENT
BEGIN:VEVENT
DTSTART;TZID=Europe/London:20230108T103000
DTEND;TZID=Europe/London:20230108T120000
DTSTAMP:20260421T092034
CREATED:20230105T135319Z
LAST-MODIFIED:20230105T140152Z
UID:2902-1673173800-1673179200@allsaints-mc.church
SUMMARY:Holy Communion
DESCRIPTION:
URL:https://allsaints-mc.church/c-event/holy-communion-89
CATEGORIES:Holy Communion,Service,Service with Rev Nick,Sunday Service
END:VEVENT
BEGIN:VEVENT
DTSTART;TZID=Europe/London:20230115T103000
DTEND;TZID=Europe/London:20230115T120000
DTSTAMP:20260421T092034
CREATED:20230105T135351Z
LAST-MODIFIED:20230105T140134Z
UID:2904-1673778600-1673784000@allsaints-mc.church
SUMMARY:Morning Praise
DESCRIPTION:
URL:https://allsaints-mc.church/c-event/morning-praise-5
CATEGORIES:Family Service,Service,Sunday Service
END:VEVENT
BEGIN:VEVENT
DTSTART;TZID=Europe/London:20230122T103000
DTEND;TZID=Europe/London:20230122T120000
DTSTAMP:20260421T092034
CREATED:20230105T135435Z
LAST-MODIFIED:20230105T140107Z
UID:2906-1674383400-1674388800@allsaints-mc.church
SUMMARY:Holy Communion
DESCRIPTION:
URL:https://allsaints-mc.church/c-event/holy-communion-90
CATEGORIES:Holy Communion,Service,Service with Philip,Sunday Service
END:VEVENT
BEGIN:VEVENT
DTSTART;TZID=Europe/London:20230129T103000
DTEND;TZID=Europe/London:20230129T120000
DTSTAMP:20260421T092034
CREATED:20230105T135724Z
LAST-MODIFIED:20230105T140048Z
UID:2908-1674988200-1674993600@allsaints-mc.church
SUMMARY:Benefice Communion
DESCRIPTION:
URL:https://allsaints-mc.church/c-event/benefice-communion-2
CATEGORIES:Benefice Service,Holy Communion,Service,Service with Philip,Sunday Service
END:VEVENT
END:VCALENDAR