BEGIN:VCALENDAR
VERSION:2.0
PRODID:-//All Saints Church - Middleton Cheney - ECPv6.15.20//NONSGML v1.0//EN
CALSCALE:GREGORIAN
METHOD:PUBLISH
X-WR-CALNAME:All Saints Church - Middleton Cheney
X-ORIGINAL-URL:https://allsaints-mc.church
X-WR-CALDESC:Events for All Saints Church - Middleton Cheney
REFRESH-INTERVAL;VALUE=DURATION:PT1H
X-Robots-Tag:noindex
X-PUBLISHED-TTL:PT1H
BEGIN:VTIMEZONE
TZID:Europe/London
BEGIN:DAYLIGHT
TZOFFSETFROM:+0000
TZOFFSETTO:+0100
TZNAME:BST
DTSTART:20220327T010000
END:DAYLIGHT
BEGIN:STANDARD
TZOFFSETFROM:+0100
TZOFFSETTO:+0000
TZNAME:GMT
DTSTART:20221030T010000
END:STANDARD
BEGIN:DAYLIGHT
TZOFFSETFROM:+0000
TZOFFSETTO:+0100
TZNAME:BST
DTSTART:20230326T010000
END:DAYLIGHT
BEGIN:STANDARD
TZOFFSETFROM:+0100
TZOFFSETTO:+0000
TZNAME:GMT
DTSTART:20231029T010000
END:STANDARD
BEGIN:DAYLIGHT
TZOFFSETFROM:+0000
TZOFFSETTO:+0100
TZNAME:BST
DTSTART:20240331T010000
END:DAYLIGHT
BEGIN:STANDARD
TZOFFSETFROM:+0100
TZOFFSETTO:+0000
TZNAME:GMT
DTSTART:20241027T010000
END:STANDARD
END:VTIMEZONE
BEGIN:VEVENT
DTSTART;TZID=Europe/London:20231008T103000
DTEND;TZID=Europe/London:20231008T120000
DTSTAMP:20260420T145825
CREATED:20231004T101302Z
LAST-MODIFIED:20240912T142101Z
UID:3027-1696761000-1696766400@allsaints-mc.church
SUMMARY:All Age Alphabetical Harvest Service
DESCRIPTION:we would be grateful for food to support the work of our Food bank which is run out of our sister church in Chacombe. The children will be invited to bring up the food during the offering and we would like them to bring something which matches the first name of the child like tomatoes for Tom (adults the same)
URL:https://allsaints-mc.church/c-event/all-age-harvest
CATEGORIES:Family Service,Service,Service with Rev Nick,Sunday Service
END:VEVENT
BEGIN:VEVENT
DTSTART;TZID=Europe/London:20231008T180000
DTEND;TZID=Europe/London:20231008T190000
DTSTAMP:20260420T145825
CREATED:20231004T101039Z
LAST-MODIFIED:20231004T103244Z
UID:3021-1696788000-1696791600@allsaints-mc.church
SUMMARY:Harvest Communion
DESCRIPTION:
URL:https://allsaints-mc.church/c-event/holy-communion-116
CATEGORIES:Holy Communion,Service,Service with Rev Nick,Sunday Service
END:VEVENT
BEGIN:VEVENT
DTSTART;TZID=Europe/London:20231015T103000
DTEND;TZID=Europe/London:20231015T120000
DTSTAMP:20260420T145825
CREATED:20231004T101425Z
LAST-MODIFIED:20231004T101425Z
UID:3031-1697365800-1697371200@allsaints-mc.church
SUMMARY:Informal Worship
DESCRIPTION:
URL:https://allsaints-mc.church/c-event/informal-worship-4
CATEGORIES:Family Service,Service,Sunday Service
END:VEVENT
BEGIN:VEVENT
DTSTART;TZID=Europe/London:20231022T103000
DTEND;TZID=Europe/London:20231022T120000
DTSTAMP:20260420T145825
CREATED:20231004T101704Z
LAST-MODIFIED:20231004T101704Z
UID:3039-1697970600-1697976000@allsaints-mc.church
SUMMARY:Holy Communion
DESCRIPTION:
URL:https://allsaints-mc.church/c-event/holy-communion-123
CATEGORIES:Holy Communion,Service,Service with Celia,Sunday Service
END:VEVENT
BEGIN:VEVENT
DTSTART;TZID=Europe/London:20231029T103000
DTEND;TZID=Europe/London:20231029T120000
DTSTAMP:20260420T145825
CREATED:20231004T102002Z
LAST-MODIFIED:20231004T102002Z
UID:3047-1698575400-1698580800@allsaints-mc.church
SUMMARY:Benefice Communion
DESCRIPTION:Beneface Service at Sulgrave
URL:https://allsaints-mc.church/c-event/benefice-communion-3
CATEGORIES:Benefice Service,Holy Communion,Service,Service with Philip,Sunday Service
END:VEVENT
END:VCALENDAR