BEGIN:VCALENDAR
VERSION:2.0
PRODID:-//All Saints Church - Middleton Cheney - ECPv6.15.20//NONSGML v1.0//EN
CALSCALE:GREGORIAN
METHOD:PUBLISH
X-WR-CALNAME:All Saints Church - Middleton Cheney
X-ORIGINAL-URL:https://allsaints-mc.church
X-WR-CALDESC:Events for All Saints Church - Middleton Cheney
REFRESH-INTERVAL;VALUE=DURATION:PT1H
X-Robots-Tag:noindex
X-PUBLISHED-TTL:PT1H
BEGIN:VTIMEZONE
TZID:Europe/London
BEGIN:DAYLIGHT
TZOFFSETFROM:+0000
TZOFFSETTO:+0100
TZNAME:BST
DTSTART:20220327T010000
END:DAYLIGHT
BEGIN:STANDARD
TZOFFSETFROM:+0100
TZOFFSETTO:+0000
TZNAME:GMT
DTSTART:20221030T010000
END:STANDARD
BEGIN:DAYLIGHT
TZOFFSETFROM:+0000
TZOFFSETTO:+0100
TZNAME:BST
DTSTART:20230326T010000
END:DAYLIGHT
BEGIN:STANDARD
TZOFFSETFROM:+0100
TZOFFSETTO:+0000
TZNAME:GMT
DTSTART:20231029T010000
END:STANDARD
BEGIN:DAYLIGHT
TZOFFSETFROM:+0000
TZOFFSETTO:+0100
TZNAME:BST
DTSTART:20240331T010000
END:DAYLIGHT
BEGIN:STANDARD
TZOFFSETFROM:+0100
TZOFFSETTO:+0000
TZNAME:GMT
DTSTART:20241027T010000
END:STANDARD
END:VTIMEZONE
BEGIN:VEVENT
DTSTART;TZID=Europe/London:20231210T103000
DTEND;TZID=Europe/London:20231210T120000
DTSTAMP:20260420T114733
CREATED:20231108T143852Z
LAST-MODIFIED:20231108T144330Z
UID:3110-1702204200-1702209600@allsaints-mc.church
SUMMARY:Holy Communion
DESCRIPTION:
URL:https://allsaints-mc.church/c-event/sunday-service-22
CATEGORIES:Family Service,Service,Sunday Service
END:VEVENT
BEGIN:VEVENT
DTSTART;TZID=Europe/London:20231217T180000
DTEND;TZID=Europe/London:20231217T193000
DTSTAMP:20260420T114733
CREATED:20231108T144623Z
LAST-MODIFIED:20231108T144623Z
UID:3127-1702836000-1702841400@allsaints-mc.church
SUMMARY:Carol Service
DESCRIPTION:
URL:https://allsaints-mc.church/c-event/carol-service
CATEGORIES:Family Service,Service,Sunday Service
END:VEVENT
BEGIN:VEVENT
DTSTART;TZID=Europe/London:20231224T103000
DTEND;TZID=Europe/London:20231224T120000
DTSTAMP:20260420T114733
CREATED:20231108T144753Z
LAST-MODIFIED:20231108T144753Z
UID:3133-1703413800-1703419200@allsaints-mc.church
SUMMARY:Christmas Eve Holy Communion
DESCRIPTION:
URL:https://allsaints-mc.church/c-event/christmas-eve-holy-communion
CATEGORIES:Holy Communion,Service,Sunday Service
END:VEVENT
BEGIN:VEVENT
DTSTART;TZID=Europe/London:20231224T150000
DTEND;TZID=Europe/London:20231224T160000
DTSTAMP:20260420T114733
CREATED:20231108T144825Z
LAST-MODIFIED:20231108T144850Z
UID:3135-1703430000-1703433600@allsaints-mc.church
SUMMARY:Crib Service
DESCRIPTION:
URL:https://allsaints-mc.church/c-event/crib-service-4
CATEGORIES:Family Service,Service,Sunday Service
ATTACH;FMTTYPE=image/jpeg:https://allsaints-mc.church/wp-content/uploads/2018/08/christmas-crib-figures-1060017_960_720.jpg
END:VEVENT
BEGIN:VEVENT
DTSTART;TZID=Europe/London:20231224T233000
DTEND;TZID=Europe/London:20231225T003000
DTSTAMP:20260420T114733
CREATED:20231108T145009Z
LAST-MODIFIED:20231108T145154Z
UID:3137-1703460600-1703464200@allsaints-mc.church
SUMMARY:Welcome to Christmas
DESCRIPTION:
URL:https://allsaints-mc.church/c-event/welcome-to-christmas
CATEGORIES:Family Service,Service,Sunday Service
ATTACH;FMTTYPE=image/jpeg:https://allsaints-mc.church/wp-content/uploads/2018/06/pexels-photo-688019-e1528461596349.jpeg
END:VEVENT
BEGIN:VEVENT
DTSTART;TZID=Europe/London:20231231T103000
DTEND;TZID=Europe/London:20231231T120000
DTSTAMP:20260420T114733
CREATED:20231108T145600Z
LAST-MODIFIED:20231108T145600Z
UID:3145-1704018600-1704024000@allsaints-mc.church
SUMMARY:Benefice Service
DESCRIPTION:
URL:https://allsaints-mc.church/c-event/benefice-service
CATEGORIES:Benefice Service,Service,Sunday Service
END:VEVENT
END:VCALENDAR