BEGIN:VCALENDAR
VERSION:2.0
PRODID:-//All Saints Church - Middleton Cheney - ECPv6.15.20//NONSGML v1.0//EN
CALSCALE:GREGORIAN
METHOD:PUBLISH
X-WR-CALNAME:All Saints Church - Middleton Cheney
X-ORIGINAL-URL:https://allsaints-mc.church
X-WR-CALDESC:Events for All Saints Church - Middleton Cheney
REFRESH-INTERVAL;VALUE=DURATION:PT1H
X-Robots-Tag:noindex
X-PUBLISHED-TTL:PT1H
BEGIN:VTIMEZONE
TZID:Europe/London
BEGIN:DAYLIGHT
TZOFFSETFROM:+0000
TZOFFSETTO:+0100
TZNAME:BST
DTSTART:20230326T010000
END:DAYLIGHT
BEGIN:STANDARD
TZOFFSETFROM:+0100
TZOFFSETTO:+0000
TZNAME:GMT
DTSTART:20231029T010000
END:STANDARD
BEGIN:DAYLIGHT
TZOFFSETFROM:+0000
TZOFFSETTO:+0100
TZNAME:BST
DTSTART:20240331T010000
END:DAYLIGHT
BEGIN:STANDARD
TZOFFSETFROM:+0100
TZOFFSETTO:+0000
TZNAME:GMT
DTSTART:20241027T010000
END:STANDARD
BEGIN:DAYLIGHT
TZOFFSETFROM:+0000
TZOFFSETTO:+0100
TZNAME:BST
DTSTART:20250330T010000
END:DAYLIGHT
BEGIN:STANDARD
TZOFFSETFROM:+0100
TZOFFSETTO:+0000
TZNAME:GMT
DTSTART:20251026T010000
END:STANDARD
END:VTIMEZONE
BEGIN:VEVENT
DTSTART;TZID=Europe/London:20241103T103000
DTEND;TZID=Europe/London:20241103T120000
DTSTAMP:20260419T161619
CREATED:20240911T160219Z
LAST-MODIFIED:20240912T135837Z
UID:3246-1730629800-1730635200@allsaints-mc.church
SUMMARY:Morning Praise
DESCRIPTION:
URL:https://allsaints-mc.church/c-event/sunday-service-29
CATEGORIES:Family Service,Service,Service with Mike,Sunday Service
END:VEVENT
BEGIN:VEVENT
DTSTART;TZID=Europe/London:20241110T103000
DTEND;TZID=Europe/London:20241110T120000
DTSTAMP:20260419T161619
CREATED:20240911T160323Z
LAST-MODIFIED:20240911T160323Z
UID:3248-1731234600-1731240000@allsaints-mc.church
SUMMARY:Holy Communion
DESCRIPTION:
URL:https://allsaints-mc.church/c-event/holy-communion-175
CATEGORIES:Holy Communion,Service,Sunday Service
END:VEVENT
BEGIN:VEVENT
DTSTART;TZID=Europe/London:20241117T103000
DTEND;TZID=Europe/London:20241117T120000
DTSTAMP:20260419T161619
CREATED:20240911T160355Z
LAST-MODIFIED:20240912T135846Z
UID:3250-1731839400-1731844800@allsaints-mc.church
SUMMARY:Morning Praise
DESCRIPTION:
URL:https://allsaints-mc.church/c-event/sunday-service-30
CATEGORIES:Family Service,Service,Sunday Service
END:VEVENT
BEGIN:VEVENT
DTSTART;TZID=Europe/London:20241124T103000
DTEND;TZID=Europe/London:20241124T120000
DTSTAMP:20260419T161619
CREATED:20240911T160418Z
LAST-MODIFIED:20240911T160418Z
UID:3252-1732444200-1732449600@allsaints-mc.church
SUMMARY:Holy Communion
DESCRIPTION:
URL:https://allsaints-mc.church/c-event/holy-communion-176
CATEGORIES:Holy Communion,Service,Sunday Service
END:VEVENT
END:VCALENDAR