BEGIN:VCALENDAR
VERSION:2.0
PRODID:-//All Saints Church - Middleton Cheney - ECPv6.15.20//NONSGML v1.0//EN
CALSCALE:GREGORIAN
METHOD:PUBLISH
X-ORIGINAL-URL:https://allsaints-mc.church
X-WR-CALDESC:Events for All Saints Church - Middleton Cheney
REFRESH-INTERVAL;VALUE=DURATION:PT1H
X-Robots-Tag:noindex
X-PUBLISHED-TTL:PT1H
BEGIN:VTIMEZONE
TZID:Europe/London
BEGIN:DAYLIGHT
TZOFFSETFROM:+0000
TZOFFSETTO:+0100
TZNAME:BST
DTSTART:20240331T010000
END:DAYLIGHT
BEGIN:STANDARD
TZOFFSETFROM:+0100
TZOFFSETTO:+0000
TZNAME:GMT
DTSTART:20241027T010000
END:STANDARD
BEGIN:DAYLIGHT
TZOFFSETFROM:+0000
TZOFFSETTO:+0100
TZNAME:BST
DTSTART:20250330T010000
END:DAYLIGHT
BEGIN:STANDARD
TZOFFSETFROM:+0100
TZOFFSETTO:+0000
TZNAME:GMT
DTSTART:20251026T010000
END:STANDARD
BEGIN:DAYLIGHT
TZOFFSETFROM:+0000
TZOFFSETTO:+0100
TZNAME:BST
DTSTART:20260329T010000
END:DAYLIGHT
BEGIN:STANDARD
TZOFFSETFROM:+0100
TZOFFSETTO:+0000
TZNAME:GMT
DTSTART:20261025T010000
END:STANDARD
END:VTIMEZONE
BEGIN:VEVENT
DTSTART;TZID=Europe/London:20250601T103000
DTEND;TZID=Europe/London:20250601T120000
DTSTAMP:20260419T171950
CREATED:20250513T153529Z
LAST-MODIFIED:20250513T153529Z
UID:3622-1748773800-1748779200@allsaints-mc.church
SUMMARY:Sunday Service
DESCRIPTION:
URL:https://allsaints-mc.church/c-event/sunday-service-39
CATEGORIES:Family Service,Service,Service with Peter,Sunday Service
END:VEVENT
BEGIN:VEVENT
DTSTART;TZID=Europe/London:20250608T103000
DTEND;TZID=Europe/London:20250608T113000
DTSTAMP:20260419T171950
CREATED:20250513T154651Z
LAST-MODIFIED:20250513T154651Z
UID:3654-1749378600-1749382200@allsaints-mc.church
SUMMARY:Holy Communion
DESCRIPTION:
URL:https://allsaints-mc.church/c-event/holy-communion-262
CATEGORIES:Holy Communion,Service,Sunday Service
END:VEVENT
BEGIN:VEVENT
DTSTART;TZID=Europe/London:20250615T103000
DTEND;TZID=Europe/London:20250615T113000
DTSTAMP:20260419T171950
CREATED:20250513T154842Z
LAST-MODIFIED:20250513T154842Z
UID:3661-1749983400-1749987000@allsaints-mc.church
SUMMARY:Sunday Service
DESCRIPTION:
URL:https://allsaints-mc.church/c-event/sunday-service-40
CATEGORIES:Family Service,Service,Sunday Service
END:VEVENT
BEGIN:VEVENT
DTSTART;TZID=Europe/London:20250622T103000
DTEND;TZID=Europe/London:20250622T120000
DTSTAMP:20260419T171950
CREATED:20250513T155022Z
LAST-MODIFIED:20250513T155022Z
UID:3668-1750588200-1750593600@allsaints-mc.church
SUMMARY:Holy Communion
DESCRIPTION:
URL:https://allsaints-mc.church/c-event/holy-communion-267
CATEGORIES:Holy Communion,Service,Sunday Service
END:VEVENT
BEGIN:VEVENT
DTSTART;TZID=Europe/London:20250629T103000
DTEND;TZID=Europe/London:20250629T120000
DTSTAMP:20260419T171950
CREATED:20250513T155209Z
LAST-MODIFIED:20250513T155209Z
UID:3676-1751193000-1751198400@allsaints-mc.church
SUMMARY:Benefice Service
DESCRIPTION:
URL:https://allsaints-mc.church/c-event/benefice-service-3
CATEGORIES:Benefice Service,Holy Communion,Service,Sunday Service
END:VEVENT
END:VCALENDAR