BEGIN:VCALENDAR
VERSION:2.0
PRODID:-//All Saints Church - Middleton Cheney - ECPv6.15.20//NONSGML v1.0//EN
CALSCALE:GREGORIAN
METHOD:PUBLISH
X-ORIGINAL-URL:https://allsaints-mc.church
X-WR-CALDESC:Events for All Saints Church - Middleton Cheney
REFRESH-INTERVAL;VALUE=DURATION:PT1H
X-Robots-Tag:noindex
X-PUBLISHED-TTL:PT1H
BEGIN:VTIMEZONE
TZID:Europe/London
BEGIN:DAYLIGHT
TZOFFSETFROM:+0000
TZOFFSETTO:+0100
TZNAME:BST
DTSTART:20230326T010000
END:DAYLIGHT
BEGIN:STANDARD
TZOFFSETFROM:+0100
TZOFFSETTO:+0000
TZNAME:GMT
DTSTART:20231029T010000
END:STANDARD
BEGIN:DAYLIGHT
TZOFFSETFROM:+0000
TZOFFSETTO:+0100
TZNAME:BST
DTSTART:20240331T010000
END:DAYLIGHT
BEGIN:STANDARD
TZOFFSETFROM:+0100
TZOFFSETTO:+0000
TZNAME:GMT
DTSTART:20241027T010000
END:STANDARD
BEGIN:DAYLIGHT
TZOFFSETFROM:+0000
TZOFFSETTO:+0100
TZNAME:BST
DTSTART:20250330T010000
END:DAYLIGHT
BEGIN:STANDARD
TZOFFSETFROM:+0100
TZOFFSETTO:+0000
TZNAME:GMT
DTSTART:20251026T010000
END:STANDARD
END:VTIMEZONE
BEGIN:VEVENT
DTSTART;TZID=Europe/London:20240929T103000
DTEND;TZID=Europe/London:20240929T120000
DTSTAMP:20260419T210331
CREATED:20240911T154606Z
LAST-MODIFIED:20240912T135455Z
UID:3187-1727605800-1727611200@allsaints-mc.church
SUMMARY:Benefice Service - Greatworth
DESCRIPTION:
URL:https://allsaints-mc.church/c-event/benefice-service-greatworth-2
CATEGORIES:Benefice Service,Service,Service with Celia,Sunday Service
END:VEVENT
END:VCALENDAR