BEGIN:VCALENDAR
VERSION:2.0
PRODID:-//All Saints Church - Middleton Cheney - ECPv6.15.20//NONSGML v1.0//EN
CALSCALE:GREGORIAN
METHOD:PUBLISH
X-WR-CALNAME:All Saints Church - Middleton Cheney
X-ORIGINAL-URL:https://allsaints-mc.church
X-WR-CALDESC:Events for All Saints Church - Middleton Cheney
REFRESH-INTERVAL;VALUE=DURATION:PT1H
X-Robots-Tag:noindex
X-PUBLISHED-TTL:PT1H
BEGIN:VTIMEZONE
TZID:Europe/London
BEGIN:DAYLIGHT
TZOFFSETFROM:+0000
TZOFFSETTO:+0100
TZNAME:BST
DTSTART:20230326T010000
END:DAYLIGHT
BEGIN:STANDARD
TZOFFSETFROM:+0100
TZOFFSETTO:+0000
TZNAME:GMT
DTSTART:20231029T010000
END:STANDARD
BEGIN:DAYLIGHT
TZOFFSETFROM:+0000
TZOFFSETTO:+0100
TZNAME:BST
DTSTART:20240331T010000
END:DAYLIGHT
BEGIN:STANDARD
TZOFFSETFROM:+0100
TZOFFSETTO:+0000
TZNAME:GMT
DTSTART:20241027T010000
END:STANDARD
BEGIN:DAYLIGHT
TZOFFSETFROM:+0000
TZOFFSETTO:+0100
TZNAME:BST
DTSTART:20250330T010000
END:DAYLIGHT
BEGIN:STANDARD
TZOFFSETFROM:+0100
TZOFFSETTO:+0000
TZNAME:GMT
DTSTART:20251026T010000
END:STANDARD
END:VTIMEZONE
BEGIN:VEVENT
DTSTART;TZID=Europe/London:20241215T180000
DTEND;TZID=Europe/London:20241215T190000
DTSTAMP:20260419T161802
CREATED:20240911T160653Z
LAST-MODIFIED:20240911T164539Z
UID:3256-1734285600-1734289200@allsaints-mc.church
SUMMARY:Carols by Candlelight
DESCRIPTION:A festive service with a range of hymns and carols for all to enjoy in our beautiful candlelit church.
URL:https://allsaints-mc.church/c-event/carols-by-candlelight-3
CATEGORIES:Advent,Christmas,Family Service,Service,Sunday Service
ATTACH;FMTTYPE=image/jpeg:https://allsaints-mc.church/wp-content/uploads/2022/09/christmascandle-scaled-e1662641237452.jpg
END:VEVENT
END:VCALENDAR